BEGIN:VCALENDAR
VERSION:2.0
PRODID:-//DjK Landesverband Bayern - ECPv6.15.17//NONSGML v1.0//EN
CALSCALE:GREGORIAN
METHOD:PUBLISH
X-WR-CALNAME:DjK Landesverband Bayern
X-ORIGINAL-URL:https://djk-lv-bayern.de
X-WR-CALDESC:Veranstaltungen für DjK Landesverband Bayern
REFRESH-INTERVAL;VALUE=DURATION:PT1H
X-Robots-Tag:noindex
X-PUBLISHED-TTL:PT1H
BEGIN:VTIMEZONE
TZID:Europe/Berlin
BEGIN:DAYLIGHT
TZOFFSETFROM:+0100
TZOFFSETTO:+0200
TZNAME:CEST
DTSTART:20230326T010000
END:DAYLIGHT
BEGIN:STANDARD
TZOFFSETFROM:+0200
TZOFFSETTO:+0100
TZNAME:CET
DTSTART:20231029T010000
END:STANDARD
BEGIN:DAYLIGHT
TZOFFSETFROM:+0100
TZOFFSETTO:+0200
TZNAME:CEST
DTSTART:20240331T010000
END:DAYLIGHT
BEGIN:STANDARD
TZOFFSETFROM:+0200
TZOFFSETTO:+0100
TZNAME:CET
DTSTART:20241027T010000
END:STANDARD
BEGIN:DAYLIGHT
TZOFFSETFROM:+0100
TZOFFSETTO:+0200
TZNAME:CEST
DTSTART:20250330T010000
END:DAYLIGHT
BEGIN:STANDARD
TZOFFSETFROM:+0200
TZOFFSETTO:+0100
TZNAME:CET
DTSTART:20251026T010000
END:STANDARD
BEGIN:DAYLIGHT
TZOFFSETFROM:+0100
TZOFFSETTO:+0200
TZNAME:CEST
DTSTART:20260329T010000
END:DAYLIGHT
BEGIN:STANDARD
TZOFFSETFROM:+0200
TZOFFSETTO:+0100
TZNAME:CET
DTSTART:20261025T010000
END:STANDARD
END:VTIMEZONE
BEGIN:VEVENT
DTSTART;VALUE=DATE:20251129
DTEND;VALUE=DATE:20251201
DTSTAMP:20260419T201504
CREATED:20251022T100105Z
LAST-MODIFIED:20251022T100105Z
UID:10000227-1764374400-1764547199@djk-lv-bayern.de
SUMMARY:Forbildung nicht-lizenzierte Übungsleiter-Ski
DESCRIPTION:Am 29./30. November findet eine Fortbildung für nicht-lizenzierte Übungsleiter Ski statt. \nWo: Reiteralm – Schladming \nAnmeldung und weitere Infos unter info@djkdv-muenchen.de
URL:https://djk-lv-bayern.de/event/forbildung-nicht-lizenzierte-uebungsleiter-ski/
LOCATION:Reiteralm / Schladming\, Schladming\, 8973\, Austria
CATEGORIES:Bildung,Sport
END:VEVENT
BEGIN:VEVENT
DTSTART;VALUE=DATE:20241130
DTEND;VALUE=DATE:20241202
DTSTAMP:20260419T201504
CREATED:20241114T072644Z
LAST-MODIFIED:20241114T072644Z
UID:10000131-1732924800-1733097599@djk-lv-bayern.de
SUMMARY:Fortbildung für nicht-lizenzierte Trainer Ski alpin
DESCRIPTION:Am Samstag den\, 30.11.2024 und am Sonntag den\, 01.12.2024 wird eine Fortbildung für ehrenamtliche nicht lizenzierte\nÜbungsleiter / Ski\, unterstützt durch den DJK-Sportverband München und Freising\, angeboten.\nDie Fortbildung findet  auf der Reiteralm bei Schladming statt.\nDie Teilnahme ist auch für einen Tag möglich.\nDie Teilnehmergebühr beträgt 20 Euro pro Teilnehmer und Tag.\nDie Fortbildung wird vom BSV leider nicht zur Lizenzverlängerung anerkannt. \nAnmeldung bis spätestens 15.11.2024 unter:\ninfo@djkdv-muenchen.de\nKosten:\n20 € für DJK-Mitglieder pro Tag\n25 € für Nicht-DJKler pro Tag\nÜberweisung auf das Konto der Liga- Bank München\nIBAN: DE28 7509 0300 0002 1474 91 BIC: GENODEF1M05\nVerwendungszweck: ÜL-SKI 2024 + Name+Verein \nDie Teilnehmergebühr ist mit der Anmeldung an den DJK-Sportverband München und Freising auf das unten genannte Konto zu überweisen. \nWeitere Infos im Ausschreibung
URL:https://djk-lv-bayern.de/event/fortbildung-fuer-nicht-lizenzierte-trainer-ski-alpin/
LOCATION:Reiteralm / Schladming\, Schladming\, 8973\, Austria
CATEGORIES:Bildung,Sport
END:VEVENT
END:VCALENDAR